BEGIN:VCALENDAR
VERSION:2.0
PRODID:-//COVB - ECPv5.16.4.1//NONSGML v1.0//EN
CALSCALE:GREGORIAN
METHOD:PUBLISH
X-WR-CALNAME:COVB
X-ORIGINAL-URL:https://www.covb.cat
X-WR-CALDESC:Esdeveniments per COVB
BEGIN:VTIMEZONE
TZID:Europe/Madrid
BEGIN:DAYLIGHT
TZOFFSETFROM:+0100
TZOFFSETTO:+0200
TZNAME:CEST
DTSTART:20220327T010000
END:DAYLIGHT
BEGIN:STANDARD
TZOFFSETFROM:+0200
TZOFFSETTO:+0100
TZNAME:CET
DTSTART:20221030T010000
END:STANDARD
BEGIN:DAYLIGHT
TZOFFSETFROM:+0100
TZOFFSETTO:+0200
TZNAME:CEST
DTSTART:20230326T010000
END:DAYLIGHT
BEGIN:STANDARD
TZOFFSETFROM:+0200
TZOFFSETTO:+0100
TZNAME:CET
DTSTART:20231029T010000
END:STANDARD
END:VTIMEZONE
BEGIN:VEVENT
DTSTART;VALUE=DATE:20221001
DTEND;VALUE=DATE:20230701
DTSTAMP:20260421T001429
CREATED:20220802T151219Z
LAST-MODIFIED:20220802T151219Z
UID:21673-1664582400-1688169599@www.covb.cat
SUMMARY:Máster en Clínica de Pequeños Animales
DESCRIPTION:Les classes magistrals mostren els últims avenços en el diagnòstic i en el tractament de les malalties que podem veure diàriament a la clínica veterinària. A la part online presentem casos clínics reals amb el diagnòstic i el tractament que hem realitzat\, així com\, els resultats obtinguts posteriorment.\n\n\n  DATA: d’octubre 2022 a juny 2023\, segons modalitat. Presencial i en línia .\n  PONENT: Veure aquí\n  PROGRAMA: Veure programa\n  Més informació: felix.garcia@uab.cat (935 811 512)
URL:https://www.covb.cat/formacio/master-en-clinica-de-pequenos-animales/
CATEGORIES:Petits animals
ATTACH;FMTTYPE=image/png:https://www.covb.cat/wp-content/uploads/2022/08/master_pequenos_animales.png
END:VEVENT
BEGIN:VEVENT
DTSTART;TZID=Europe/Madrid:20230101T080000
DTEND;TZID=Europe/Madrid:20231231T170000
DTSTAMP:20260421T001429
CREATED:20230124T145638Z
LAST-MODIFIED:20230315T170548Z
UID:27080-1672560000-1704042000@www.covb.cat
SUMMARY:S’obre termini d’inscripció destinat a la preparació de les següents oposicions:
DESCRIPTION:Grup de preparació destinat a les següents oposicions de la Generalitat de Catalunya:\n\n12 places veterinaris concurs-oposición OEP 2022 (en curs).\n22 plazas Salud Pública OEP 2022 (en curso).\n\n\n           Programa: Veure Programa \n  \nGrup de preparació destinats a les següents oposicions del Cuerpo Nacional Veterinario: \n\n\n119 plazas libres Oferta de Empleo Público 2021 + 2022 (incluye destinos en las cuatro capitales de provincia de Cataluña).\n\n           Programa: Veure Programa\n           Preu: demanar informació (col·legiats al COVB tenen una bonificació del 20% sobre l’import del curs)\n\nInformació i inscripcions: enviar un correu a edvijil@yahoo.es o trucar al: 617 22 48 53
URL:https://www.covb.cat/formacio/sobre-termini-dinscripcio-destinat-a-la-preparacio-de-les-seguents-oposicions/
CATEGORIES:Certificacions
ATTACH;FMTTYPE=image/jpeg:https://www.covb.cat/wp-content/uploads/2022/04/man-gdad6ee0d8_640.jpg
END:VEVENT
BEGIN:VEVENT
DTSTART;VALUE=DATE:20230110
DTEND;VALUE=DATE:20240101
DTSTAMP:20260421T001429
CREATED:20230228T200619Z
LAST-MODIFIED:20230228T200619Z
UID:28279-1673308800-1704067199@www.covb.cat
SUMMARY:Exploración oftalmológica: cómo obtener el máximo rendimiento del equipamiento clínico disponible
DESCRIPTION:En el curs s’estudia el procediment per a realitzar una exploració oftalmològica sistemàtica\, s’analitzen els mètodes d’exploració disponibles que permeten obtenir una quantitat més gran de dades objectives i es parla del maneig i la utilitat de la làmpada de fenedura\, així com\, dels mètodes complementaris d’exploració i la seva aplicació.\n\n\n  DATA: 10 de gener a 31 de desembre de 2023 (12 hores)\n  PONENT: Alejandro Bayón del Río\n   LLOC: en línia\n  PROGRAMA: Veure programa\n  PREU: gratuït col·legiats COVB / altres 69€ \n\n\nEnviar un correu a: formacio@covb.cat sol·licitant codi beca
URL:https://www.covb.cat/formacio/exploracion-oftalmologica-como-obtener-el-maximo-rendimiento-del-equipamiento-clinico-disponible/
CATEGORIES:Petits animals
ATTACH;FMTTYPE=image/jpeg:https://www.covb.cat/wp-content/uploads/2023/02/PY097208_MM_Curso_Oftalmologia_practica.jpg
END:VEVENT
BEGIN:VEVENT
DTSTART;VALUE=DATE:20230207
DTEND;VALUE=DATE:20240101
DTSTAMP:20260421T001429
CREATED:20230228T200448Z
LAST-MODIFIED:20230717T150009Z
UID:28272-1675728000-1704067199@www.covb.cat
SUMMARY:Abordaje integral de la anestesia felina (PLACES EXHAURIDES)
DESCRIPTION:PLACES EXHAURIDES:\n\nEn el curs coneixerem les característiques del pacient pediàtric felí per a maximitzar l’èxit de les anestèsies\, tot classificant i diagnosticant les alteracions àcid-base i repassant els conceptes que relacionen l’ERC amb les alteracions de la pressió arterial o les alteracions més freqüents amb malaltia GI crònica\, entre d’altres.\n\n  DATA:  7 de febrer de 2023 a 31 de desembre de 2023 (12 hores)\n  PONENT: Salvador Cervantes\n   LLOC: en línia\n  PROGRAMA: Veure programa\n  PREU: gratuït col·legiats COVB / altres 69€ \n\nEnviar un correu a: formacio@covb.cat sol·licitant codi beca
URL:https://www.covb.cat/formacio/abordaje-integral-de-la-anestesia-felina/
CATEGORIES:Petits animals
ATTACH;FMTTYPE=image/jpeg:https://www.covb.cat/wp-content/uploads/2023/02/PY091623_Curso_Abordaje_anestesia_felina_MM.jpg
END:VEVENT
BEGIN:VEVENT
DTSTART;VALUE=DATE:20230430
DTEND;VALUE=DATE:20230701
DTSTAMP:20260421T001429
CREATED:20230418T172237Z
LAST-MODIFIED:20230418T172403Z
UID:31485-1682812800-1688169599@www.covb.cat
SUMMARY:Bienestar y manejo del paciente felino: Cat Friendly
DESCRIPTION:En aquest curs es tractaran les particularitats del comportament del pacient felí:\n(etologia bàsica del maneig del gat)\, les necessitats a tenir en compte en les instal·lacions (sala d’espera\, consultes exclusives\, hospitalització) i les eines necessàries per a diferenciar-se com a clínica felina.\n\n\n  DATA: 30 d’abril a 30 de juny de 2023 (5 hores)\n  PONENT: Félix Vallejo López\n   LLOC: en línia\n  PROGRAMA: Veure programa\n  PREU: 30 € (exclusiu col·legiats)
URL:https://www.covb.cat/formacio/bienestar-y-manejo-del-paciente-felino-cat-friendly/
CATEGORIES:Petits animals
ATTACH;FMTTYPE=image/jpeg:https://www.covb.cat/wp-content/uploads/2023/04/captura8.jpg
END:VEVENT
BEGIN:VEVENT
DTSTART;VALUE=DATE:20230501
DTEND;VALUE=DATE:20230701
DTSTAMP:20260421T001429
CREATED:20230425T172402Z
LAST-MODIFIED:20230425T172649Z
UID:31755-1682899200-1688169599@www.covb.cat
SUMMARY:Medicina Interna de Pequeños Animales
DESCRIPTION:En aquest cas clínic d’un gos es podran comparar les respostes amb les de l’autor i avançar fins al diagnòstic\, tot analitzant el tractament i arribant a les conclusions del cas.\n\n\n  DATA: 1 de maig a 30 de juny de 2023 (2 hores)\n  PONENT: Óscar Cortadellas\n   LLOC: en línia\n  PROGRAMA: Veure programa\n  PREU: Gratuït (exclusiu col·legiats)
URL:https://www.covb.cat/formacio/medicina-interna-de-pequenos-animales/
CATEGORIES:Petits animals
ATTACH;FMTTYPE=image/jpeg:https://www.covb.cat/wp-content/uploads/2023/04/medicinainterna.jpg
END:VEVENT
BEGIN:VEVENT
DTSTART;VALUE=DATE:20230601
DTEND;VALUE=DATE:20230731
DTSTAMP:20260421T001429
CREATED:20230509T195226Z
LAST-MODIFIED:20230509T195342Z
UID:32313-1685577600-1690761599@www.covb.cat
SUMMARY:Evaluación del bienestar animal en explotaciones ganaderas
DESCRIPTION:En aquesta 2a edició del mòdul avançat es pretén aprofundir en el concepte de benestar animal\, revisant els seus principals aspectes i entendre les diferents avaluacions\, identificant els principals factors de risc.\n\n\n  DATA: 1 de juny a 30 de juliol de 2023 (20 hores)\n  PONENT: Antonio Velarde Calvo\n   LLOC: COVB (Av. de la República Argentina\, 21\, 25. 08023 Barcelona)\n  PROGRAMA: Veure programa\n  PREU: 60 € (exclusiu col·legiats)\n\n\n\n\n\n\nTermini finalització inscripció: 30/07/2023
URL:https://www.covb.cat/formacio/evaluacion-del-bienestar-animal-en-explotaciones-ganaderas-3/
CATEGORIES:Benestar Animal
ATTACH;FMTTYPE=image/jpeg:https://www.covb.cat/wp-content/uploads/2023/05/Curso_bienestar_animal_en_explotaciones_ganaderas_20h_2a_edicion_OCV.jpg
END:VEVENT
BEGIN:VEVENT
DTSTART;TZID=Europe/Madrid:20230622T143000
DTEND;TZID=Europe/Madrid:20230704T160000
DTSTAMP:20260421T001429
CREATED:20230613T173116Z
LAST-MODIFIED:20230613T173116Z
UID:33436-1687444200-1688486400@www.covb.cat
SUMMARY:Grupo Asís: Sesiones clínicas de bienestar animal
DESCRIPTION:En les seves tres sessions es tractaran temes com els indicadors de benestar en la gestió d’explotacions\, la nova llei de benestar animal (situació i aspectes destacats) o desafiaments per al benestar que suposen els animals geriàtrics\, entre altres.\n\n\n  DATA: 22 i 27 de juny i 4 de juliol de 2023 (14.30 hores a 16.00 hores)\n  PONENTS: Toni Velarde\, Tomàs Camps y Marta Amat\n   LLOC: en línia\n  PROGRAMA: veure programa\n  PREU: gratuït col·legiats COVB / altres 75€ \n\n\nTermini formalització inscripció: 21/06/2023
URL:https://www.covb.cat/formacio/grupo-asis-sesiones-clinicas-de-bienestar-animal/
CATEGORIES:Petits animals
ATTACH;FMTTYPE=image/jpeg:https://www.covb.cat/wp-content/uploads/2023/06/PY103491_Ficha_SSCC_Bienestar_animal.jpg
END:VEVENT
BEGIN:VEVENT
DTSTART;VALUE=DATE:20230626
DTEND;VALUE=DATE:20230701
DTSTAMP:20260421T001429
CREATED:20230509T195424Z
LAST-MODIFIED:20230509T195536Z
UID:32320-1687737600-1688169599@www.covb.cat
SUMMARY:Universidad de Zaragoza: Curso de Patología ovina y caprina 2023
DESCRIPTION:El Centro de Encefalopatías y Enfermedades Transmisibles Emergentes de la Universidad de Zaragoza ofereix un curs en el qual s’ensenyarà a diagnosticar malalties\, realitzar necròpsies i parlarà de la normativa específica que afecta les explotacions ovines i caprines\, entre altres matèries relacionades.\n\n\n  DATA: 26 al 30 de juny de 2023\n   LLOC: Centro de Encefalopatías y Enfermedades Transmisibles Emergentes (Facultad de Veterinaria de Zaragoza)\n  PROGRAMA: Veure programa\n  PREU: 150 €\n\n\n Omplir document adjunt i enviar a arbizuz@unizar.es
URL:https://www.covb.cat/formacio/universidad-de-zaragoza-curso-de-patologia-ovina-y-caprina-2023/
CATEGORIES:Granja
ATTACH;FMTTYPE=image/jpeg:https://www.covb.cat/wp-content/uploads/2022/11/viruela-ovina.jpg
END:VEVENT
END:VCALENDAR