BEGIN:VCALENDAR
VERSION:2.0
PRODID:-//COVB - ECPv5.16.4.1//NONSGML v1.0//EN
CALSCALE:GREGORIAN
METHOD:PUBLISH
X-WR-CALNAME:COVB
X-ORIGINAL-URL:https://www.covb.cat
X-WR-CALDESC:Esdeveniments per COVB
BEGIN:VTIMEZONE
TZID:Europe/Madrid
BEGIN:DAYLIGHT
TZOFFSETFROM:+0100
TZOFFSETTO:+0200
TZNAME:CEST
DTSTART:20210328T010000
END:DAYLIGHT
BEGIN:STANDARD
TZOFFSETFROM:+0200
TZOFFSETTO:+0100
TZNAME:CET
DTSTART:20211031T010000
END:STANDARD
END:VTIMEZONE
BEGIN:VEVENT
DTSTART;VALUE=DATE:20210111
DTEND;VALUE=DATE:20220101
DTSTAMP:20260425T223248
CREATED:20210203T191323Z
LAST-MODIFIED:20211130T191402Z
UID:5333-1610323200-1640995199@www.covb.cat
SUMMARY:Diagnóstico y tratamiento de patologías neurológicas en el perro y el gato.
DESCRIPTION:ÚLTIMES PLACES DISPONIBLES \nPonent: María Ortega \nCal sol·licitar el número de beca a formacio@covb.cat per formalitzar procés d’inscripció
URL:https://www.covb.cat/formacio/diagnostico-y-tratamiento-de-patologias-neurologicas-en-el-perro-y-el-gato/
CATEGORIES:Petits animals
ATTACH;FMTTYPE=image/jpeg:https://www.covb.cat/wp-content/uploads/2020/06/photo-1548199973-03cce0bbc87b-e1683889347189.jpg
END:VEVENT
BEGIN:VEVENT
DTSTART;VALUE=DATE:20210111
DTEND;VALUE=DATE:20220101
DTSTAMP:20260425T223248
CREATED:20210203T191617Z
LAST-MODIFIED:20210220T095103Z
UID:5337-1610323200-1640995199@www.covb.cat
SUMMARY:Claves para el éxito en cirugía digestiva
DESCRIPTION:
URL:https://www.covb.cat/formacio/claves-para-el-exito-en-cirugia-digestiva/
CATEGORIES:Petits animals
ATTACH;FMTTYPE=image/jpeg:https://www.covb.cat/wp-content/uploads/2021/01/bg_cirurgia.jpg
END:VEVENT
BEGIN:VEVENT
DTSTART;VALUE=DATE:20210602
DTEND;VALUE=DATE:20210701
DTSTAMP:20260425T223248
CREATED:20210518T165401Z
LAST-MODIFIED:20210518T165401Z
UID:8402-1622592000-1625097599@www.covb.cat
SUMMARY:2a Edició Curs de l’Ús Prudent d’Antibiòtics
DESCRIPTION:
URL:https://www.covb.cat/formacio/2a-edicio-curs-de-lus-prudent-dantibiotics/
CATEGORIES:Petits animals
ATTACH;FMTTYPE=image/jpeg:https://www.covb.cat/wp-content/uploads/2021/03/bgantibiotics-1.jpg
END:VEVENT
BEGIN:VEVENT
DTSTART;TZID=Europe/Madrid:20210630T170000
DTEND;TZID=Europe/Madrid:20210630T183000
DTSTAMP:20260425T223248
CREATED:20210518T170127Z
LAST-MODIFIED:20210518T170152Z
UID:8432-1625072400-1625077800@www.covb.cat
SUMMARY:Sessió. L’informe microbiològic (del cultiu a l’antibiograma) en animals de companyia
DESCRIPTION:Ponent: Salva Cervantes
URL:https://www.covb.cat/formacio/sessio-linforme-microbiologic-del-cultiu-a-lantibiograma-en-animals-de-companyia/
CATEGORIES:Petits animals
ATTACH;FMTTYPE=image/jpeg:https://www.covb.cat/wp-content/uploads/2020/07/photo-1513360371669-4adf3dd7dff8.jpg
END:VEVENT
BEGIN:VEVENT
DTSTART;TZID=Europe/Madrid:20210630T170000
DTEND;TZID=Europe/Madrid:20210630T190000
DTSTAMP:20260425T223248
CREATED:20210623T122553Z
LAST-MODIFIED:20210623T122603Z
UID:9615-1625072400-1625079600@www.covb.cat
SUMMARY:L’informe microbiològic (del cultiu a l’antibiograma) en animals de companyia
DESCRIPTION:
URL:https://www.covb.cat/formacio/linforme-microbiologic-del-cultiu-a-lantibiograma-en-animals-de-companyia/
CATEGORIES:Petits animals
ATTACH;FMTTYPE=image/jpeg:https://www.covb.cat/wp-content/uploads/2021/06/bgsessio.jpg
END:VEVENT
END:VCALENDAR