BEGIN:VCALENDAR
VERSION:2.0
PRODID:-//COVB - ECPv5.16.4.1//NONSGML v1.0//EN
CALSCALE:GREGORIAN
METHOD:PUBLISH
X-WR-CALNAME:COVB
X-ORIGINAL-URL:https://www.covb.cat
X-WR-CALDESC:Esdeveniments per COVB
BEGIN:VTIMEZONE
TZID:Europe/Madrid
BEGIN:DAYLIGHT
TZOFFSETFROM:+0100
TZOFFSETTO:+0200
TZNAME:CEST
DTSTART:20260329T010000
END:DAYLIGHT
BEGIN:STANDARD
TZOFFSETFROM:+0200
TZOFFSETTO:+0100
TZNAME:CET
DTSTART:20261025T010000
END:STANDARD
END:VTIMEZONE
BEGIN:VEVENT
DTSTART;TZID=Europe/Madrid:20260430T170000
DTEND;TZID=Europe/Madrid:20260430T183000
DTSTAMP:20260422T103320
CREATED:20260413T124410Z
LAST-MODIFIED:20260413T183112Z
UID:68819-1777568400-1777573800@www.covb.cat
SUMMARY:WEBSEMINAR: “El virus West Nile a Espanya: avenços i perspectives”
DESCRIPTION:El Consejo General de Colegios de la Profesión Veterinaria de España organitza un nou webseminari centrat en el virus West Nile i en l’evolució recent del seu escenari epidemiològic a Espanya. Aquesta sessió ofereix una actualització rellevant sobre una zoonosi d’interès creixent per a la sanitat animal i la salut pública\, amb una mirada integrada des de l’enfocament “Una salut”. \nLa conferència revisarà els aspectes essencials del virus\, incloent-ne el cicle biològic\, la variabilitat genètica i la patogenicitat tant en animals com en humans. També s’hi abordaran les bases epidemiològiques de la malaltia\, les vies de transmissió\, els factors que afavoreixen la seva expansió territorial i els plans de vigilància actualment actius a Espanya. La sessió es completarà amb una revisió dels avenços de recerca desenvolupats al nostre entorn. \nPel que fa al format\, es tracta d’una xerrada online de 90 minuts\, amb 60 minuts d’exposició i 30 minuts de debat. Els assistents podran enviar preguntes al ponent\, rebran posteriorment un document amb les qüestions no respostes en directe i tindran accés a materials complementaris descarregables. A més\, la gravació quedarà disponible a la plataforma del Consejo\, i el diploma s’emetrà per als assistents en directe. \nPonent\nMiguel Ángel Jiménez Clavero és professor d’investigació i investigador principal del Grupo de Enfermedades Emergentes y Transfronterizas del Centro de Investigación en Sanidad Animal (CISA-INIA-CSIC)\, on actualment també és cap del Departament de Enfermedades Infecciosas y Salud Global. Biòleg de formació\, es va doctorar en Bioquímica i Biologia Molecular i ha desenvolupat la seva trajectòria en l’àmbit de la virologia\, amb especial dedicació a malalties emergents zoonòtiques com la febre pel virus del Nil Occidental\, la febre hemorràgica de Crimea-Congo o la grip aviària zoonòtica. \n📅 Data: 30 d’abril de 2026\n🕔 Hora: 17:00 h (16:00 h a Canàries)\n⏳ Durada: 90 minuts\n💻 Modalitat: Online\, a través de la plataforma de seminaris en directe del Consejo\n💰 Preu: Gratuït\n👨‍🏫 Ponent: Miguel Ángel Jiménez Clavero\n📩 Inscripcions obertes aquí. \nDes del COVB\, us animem a inscriure-us en aquesta sessió per aprofundir en una zoonosi d’alta rellevància i reforçar la mirada interdisciplinària necessària per afrontar els reptes actuals en salut animal i salut pública. \nSeminari_Virus del Nil_30042026 (PDF)
URL:https://www.covb.cat/formacio/webseminar-el-virus-west-nile-a-espanya-avencos-i-perspectives/
CATEGORIES:Èquids
END:VEVENT
END:VCALENDAR