BEGIN:VCALENDAR
VERSION:2.0
PRODID:-//COVB - ECPv5.16.4.1//NONSGML v1.0//EN
CALSCALE:GREGORIAN
METHOD:PUBLISH
X-WR-CALNAME:COVB
X-ORIGINAL-URL:https://www.covb.cat
X-WR-CALDESC:Esdeveniments per COVB
BEGIN:VTIMEZONE
TZID:Europe/Madrid
BEGIN:DAYLIGHT
TZOFFSETFROM:+0100
TZOFFSETTO:+0200
TZNAME:CEST
DTSTART:20260329T010000
END:DAYLIGHT
BEGIN:STANDARD
TZOFFSETFROM:+0200
TZOFFSETTO:+0100
TZNAME:CET
DTSTART:20261025T010000
END:STANDARD
END:VTIMEZONE
BEGIN:VEVENT
DTSTART;VALUE=DATE:20260423
DTEND;VALUE=DATE:20260703
DTSTAMP:20260421T022313
CREATED:20260420T182312Z
LAST-MODIFIED:20260420T182312Z
UID:69127-1776902400-1783036799@www.covb.cat
SUMMARY:Introducció a la investigació veterinària
DESCRIPTION:El Colegio Oficial de Veterinarios de Madrid (COLVEMA)\, a través del seu Comitè d’Ètica de la Investigació i Integritat Professional\, impulsa aquest cicle de seminaris amb l’objectiu de proporcionar una base pràctica per iniciar-se en la recerca veterinària. \nAquesta formació està especialment orientada a professionals amb poca experiència en projectes científics\, i ofereix eines per dissenyar\, executar i comunicar estudis que puguin presentar-se en congressos o publicar-se en revistes especialitzades. \nEl programa no se centra exclusivament en la recerca amb animals d’experimentació\, sinó que aborda la investigació veterinària en un sentit ampli\, incloent-hi aspectes metodològics\, anàlisi de dades i revisió bibliogràfica. \nAl llarg de les sessions es treballaran conceptes clau com: \n\nIntroducció a la metodologia científica\nCerca bibliogràfica i revisió sistemática\nDisseny d’estudis en investigació veterinària\nElaboració i presentació de resultats científics\n\nAquesta primera edició forma part d’un programa amb continuïtat\, pensat per consolidar progressivament les competències investigadores dins del col·lectiu veterinari. \n📅 Dates: 23 d’abril\, 21 de maig\, 4 de juny i 2 de juliol de 2026\n🕓 Horari: 15:00 – 16:00 h\n📍 Modalitat: Presencial (seu COLVEMA) i/o online per Zoom)\n💰 Preu: Gratuït per a col·legiats de Madrid\n📩 Inscripció: disponible per a cada sessió a través del web de COLVEMA \n👨‍🏫 Professorat: \n\nFernando Asensio Rubio. Doctor en Veterinària. Hospital G. U. Gregorio Marañón\nCarmen Muñoz Serrano. Biblioteca Universidad Complutense de Madrid\nAngélica Horrillo Ledesma. Centro de Investigaciones Biológicas (CIB-CSIC)\nLaura Peña Fernández. Universidad Complutense de Madrid\n\nAquesta activitat està oberta a totes les persones interessades. \nDes del COVB animem els col·legiats i col·legiades a aprofitar aquesta oportunitat formativa per iniciar-se en l’àmbit de la recerca veterinària i reforçar les seves competències científiques. \n 
URL:https://www.covb.cat/formacio/introduccio-a-la-investigacio-veterinaria/
CATEGORIES:Investigació
ATTACH;FMTTYPE=image/jpeg:https://www.covb.cat/wp-content/uploads/2026/04/Seminario-Colvema-investigacioWEB.jpg
END:VEVENT
END:VCALENDAR