BEGIN:VCALENDAR
VERSION:2.0
PRODID:-//COVB - ECPv5.16.4.1//NONSGML v1.0//EN
CALSCALE:GREGORIAN
METHOD:PUBLISH
X-WR-CALNAME:COVB
X-ORIGINAL-URL:https://www.covb.cat
X-WR-CALDESC:Esdeveniments per COVB
BEGIN:VTIMEZONE
TZID:Europe/Madrid
BEGIN:DAYLIGHT
TZOFFSETFROM:+0100
TZOFFSETTO:+0200
TZNAME:CEST
DTSTART:20260329T010000
END:DAYLIGHT
BEGIN:STANDARD
TZOFFSETFROM:+0200
TZOFFSETTO:+0100
TZNAME:CET
DTSTART:20261025T010000
END:STANDARD
END:VTIMEZONE
BEGIN:VEVENT
DTSTART;TZID=Europe/Madrid:20260122T170000
DTEND;TZID=Europe/Madrid:20260122T183000
DTSTAMP:20260425T013213
CREATED:20260112T192508Z
LAST-MODIFIED:20260112T192508Z
UID:65779-1769101200-1769106600@www.covb.cat
SUMMARY:Influença aviària H5N1: situació actual i riscos per a la sanitat animal i la salut pública
DESCRIPTION:La influença (o grip) aviària és una de les malalties més devastadores en sanitat animal i una amenaça constant per a la indústria avícola i la fauna silvestre. L’actual epidèmia\, sense precedents\, ha afectat milions d’aus a escala global i també s’ha estès a mamífers\, fet que obre nous reptes de control i prevenció\, inclosa la salut pública. En aquest context\, la perspectiva One Health és clau per promoure una resposta coordinada entre sanitat animal\, salut humana i medi ambient. \nObjectius \n\nConèixer la situació actual de l’epidèmia d’influenza aviar H5N1 a Espanya\, Europa i el món.\nExplicar l’impacte sanitari en aus domèstiques i silvestres.\nValorar l’impacte en mamífers (fauna\, mascotes i boví lleter).\nAbordar el caràcter zoonòtic: vies de contagi\, quadre clínic i prevenció en humans.\n\nContinguts \n\nCanvis epidemiològics en els darrers 5 anys.\nSituació actual a Espanya\, Europa i al món.\nImpacte sanitari i econòmic en la indústria avícola.\nImpacte en fauna silvestre.\nBrots en mascotes (gats i gossos).\nBrots en boví lleter als EUA (clínica\, transmissió\, epidemiologia).\nRiscos per a la salut pública.\n\nFormat de la sessió \n\n60 minuts d’exposició + 30 minuts de debat amb opció d’enviar preguntes a la ponent.\nMaterials complementaris descarregables i recull posterior de preguntes no resoltes en directe.\nDiploma per a assistents en directe.\nGravació disponible a la plataforma del Consejo (apartat de seminaris gravats) durant el període indicat.\nEls inscrits rebran el mateix dia del seminari un correu amb l’enllaç d’accés i la contrasenya.\n\n📅 Data i hora: 22 de gener de 2026\, a les 17:00 h (16:00 h a Canàries) \n⏳ Durada: 90 minuts \n💻 Modalitat: webseminar en directe (plataforma del Consejo)\n💰 Preu: gratuït\n👩‍🏫 Ponència: Elisa Pérez Ramírez (INIA-CSIC)\, doctora en Veterinària i especialista en virologia\, amb 20 anys d’experiència en I+D+i en sanitat animal i una trajectòria destacada en divulgació científica. \n📝 Inscripcions aquí. \nDescarregar PDF
URL:https://www.covb.cat/formacio/influenca-aviaria-h5n1-situacio-actual-i-riscos-per-a-la-sanitat-animal-i-la-salut-publica/
CATEGORIES:Avicultura
ATTACH;FMTTYPE=image/jpeg:https://www.covb.cat/wp-content/uploads/2026/01/Seminari-influenza-aviaria-WEB.jpg
END:VEVENT
END:VCALENDAR