BEGIN:VCALENDAR
VERSION:2.0
PRODID:-//COVB - ECPv5.16.4.1//NONSGML v1.0//EN
CALSCALE:GREGORIAN
METHOD:PUBLISH
X-WR-CALNAME:COVB
X-ORIGINAL-URL:https://www.covb.cat
X-WR-CALDESC:Esdeveniments per COVB
BEGIN:VTIMEZONE
TZID:Europe/Madrid
BEGIN:DAYLIGHT
TZOFFSETFROM:+0100
TZOFFSETTO:+0200
TZNAME:CEST
DTSTART:20260329T010000
END:DAYLIGHT
BEGIN:STANDARD
TZOFFSETFROM:+0200
TZOFFSETTO:+0100
TZNAME:CET
DTSTART:20261025T010000
END:STANDARD
END:VTIMEZONE
BEGIN:VEVENT
DTSTART;VALUE=DATE:20260109
DTEND;VALUE=DATE:20260214
DTSTAMP:20260424T191932
CREATED:20251020T121300Z
LAST-MODIFIED:20251020T121300Z
UID:61889-1767916800-1771027199@www.covb.cat
SUMMARY:Gestió integral veterinària de colònies felines – Curs microcredencial UAB 2025-2026
DESCRIPTION:Aquest nou curs de microcredencial de la Universitat Autònoma de Barcelona (UAB) ofereix una formació integral sobre la gestió veterinària de colònies felines urbanes\, amb un enfocament professional\, pràctic i multidisciplinari. \nEls participants aprendran a aplicar protocols de captura\, esterilització\, registre i retorn (CERR)\, a dissenyar programes sanitaris i a coordinar-se amb els diferents actors implicats en la gestió de colònies: administracions\, entitats de protecció animal i ciutadania. \n📅 Dates:\nGener: 9 (online)\, 16 (online)\, 23 (presencial)\, 30 (online)\nFebrer: 6 (online) i 13 (presencial)\n🕒 Horari: Divendres de 9:00 a 13:00 h (excepte 13/02\, de 9:00 a 18:00 h)\n📍 Lloc: Facultat de Veterinària de la UAB\n💻 Modalitat: Híbrid\n🎓 Crèdits: 4 ECTS\n👥 Places limitades: 25 participants\n💰 Preu: 180 € (amb descompte NextGenerationUE) – Preu sense descompte: 600 €\n📑 Idioma de docència: Català\n🎯 Orientació professional: veterinari municipal\, veterinari de col·lectius de gossos i gats.\n📩 Inscripcions i informació: Microcredencial en Gestió Veterinària Integral de Colònies Felines – UAB \n👨‍🏫 Direcció: Anna Maria Ortuño\nProfessorat: Manel López-Béjar\, Josep Martínez\, Sergi García\, Ricard Adan\, Meritxell Gisbert\, Albert Lloret\, Anna Ortuño\, Ana Martínez\, Marta Amat\, Susana Le Brech\, Isabel Alonso Martínez i Marc Pintor. \nUna formació pionera per adquirir les competències necessàries en la gestió ètica i sostenible de les colònies felines urbanes. \nDescarregar PDF
URL:https://www.covb.cat/formacio/gestio-integral-veterinaria-de-colonies-felines-curs-microcredencial-uab-2025-2026/
CATEGORIES:Petits animals
ATTACH;FMTTYPE=image/jpeg:https://www.covb.cat/wp-content/uploads/2025/10/Colonias-felinas-WEB.jpg
END:VEVENT
END:VCALENDAR