BEGIN:VCALENDAR
VERSION:2.0
PRODID:-//COVB - ECPv5.16.4.1//NONSGML v1.0//EN
CALSCALE:GREGORIAN
METHOD:PUBLISH
X-WR-CALNAME:COVB
X-ORIGINAL-URL:https://www.covb.cat
X-WR-CALDESC:Esdeveniments per COVB
BEGIN:VTIMEZONE
TZID:Europe/Madrid
BEGIN:DAYLIGHT
TZOFFSETFROM:+0100
TZOFFSETTO:+0200
TZNAME:CEST
DTSTART:20260329T010000
END:DAYLIGHT
BEGIN:STANDARD
TZOFFSETFROM:+0200
TZOFFSETTO:+0100
TZNAME:CET
DTSTART:20261025T010000
END:STANDARD
END:VTIMEZONE
BEGIN:VEVENT
DTSTART;TZID=Europe/Madrid:20260324T140000
DTEND;TZID=Europe/Madrid:20260324T160000
DTSTAMP:20260420T102306
CREATED:20260223T134340Z
LAST-MODIFIED:20260223T134514Z
UID:67241-1774360800-1774368000@www.covb.cat
SUMMARY:Formació en oncologia veterinària: seguretat en quimioteràpia i interpretació de resultats de patologia
DESCRIPTION:La pràctica oncològica en petits animals exigeix cada vegada més rigor clínic\, capacitat interpretativa i protocols estrictes de seguretat. Amb l’objectiu d’aportar eines pràctiques i criteri clínic aplicable al dia a dia\, el COVB organitza una sessió formativa centrada en dos aspectes clau de l’oncologia veterinària: la protecció durant l’administració de tractaments quimioteràpics i la interpretació crítica dels resultats de patologia. \nLa sessió anirà a càrrec d’Ignasi Rodríguez Pizà\, llicenciat en Veterinària per la UAB\, doctor en biomedicina i diplomat europeu i americà en oncologia veterinària (ACVIM Oncology)\, acreditat per AVEPA en aquesta especialitat. Actualment dirigeix el servei d’oncologia de l’Hospital Veterinari Glòries (AniCura)\, centre que disposa d’un programa de residència ECVIM-CA (Oncology) a Catalunya . \nAquesta formació permetrà revisar protocols de bioseguretat\, minimitzar riscos per al personal clínic i millorar la integració dels resultats anatomopatològics en la presa de decisions terapèutiques. \n📅 Data: 24 de març de 2026\n⏰ Horari: 14:00 h – 16:00 h\n📍 Modalitat: Presencial (COVB)\n💰 Preu: Gratuït per a col·legiats/des\n📩 Inscripció: enviar un correu a formacio@covb.cat (places limitades per rigorós ordre d’inscripció). Data límit d’inscripció: 20/03/2026 (inclòs) \nDes del COVB continuem apostant per una formació especialitzada i de qualitat que reforci la seguretat clínica i l’excel·lència professional en l’àmbit de l’oncologia veterinària. \nInscriu-te i actualitza els teus protocols amb criteri expert. \nDescarregar PDF
URL:https://www.covb.cat/formacio/formacio-en-oncologia-veterinaria-seguretat-en-quimioterapia-i-interpretacio-de-resultats-de-patologia/
CATEGORIES:Petits animals
ATTACH;FMTTYPE=image/jpeg:https://www.covb.cat/wp-content/uploads/2026/02/formacio-oncologia-WEB.jpg
END:VEVENT
END:VCALENDAR