BEGIN:VCALENDAR
VERSION:2.0
PRODID:-//COVB - ECPv5.16.4.1//NONSGML v1.0//EN
CALSCALE:GREGORIAN
METHOD:PUBLISH
X-WR-CALNAME:COVB
X-ORIGINAL-URL:https://www.covb.cat
X-WR-CALDESC:Esdeveniments per COVB
BEGIN:VTIMEZONE
TZID:Europe/Madrid
BEGIN:DAYLIGHT
TZOFFSETFROM:+0100
TZOFFSETTO:+0200
TZNAME:CEST
DTSTART:20250330T010000
END:DAYLIGHT
BEGIN:STANDARD
TZOFFSETFROM:+0200
TZOFFSETTO:+0100
TZNAME:CET
DTSTART:20251026T010000
END:STANDARD
END:VTIMEZONE
BEGIN:VEVENT
DTSTART;VALUE=DATE:20251106
DTEND;VALUE=DATE:20251214
DTSTAMP:20260420T170847
CREATED:20250811T184806Z
LAST-MODIFIED:20250901T122342Z
UID:59684-1762387200-1765670399@www.covb.cat
SUMMARY:Curs per a l’acreditació com a Director/a d’Instal·lacions de Radiodiagnòstic Veterinari
DESCRIPTION:El Col·legi Oficial de Veterinaris de Barcelona (COVB) i UTPR® TECNODOSIS S.L.\, entitat homologada pel Consejo de Seguridad Nuclear\, organitzen un curs semipresencial per obtenir l’acreditació oficial com a Director/a d’Instal·lacions de Radiodiagnòstic Veterinari. \nContinguts principals: \n\nConceptes bàsics i característiques físiques dels equips de raigs X\nMesura de la radiació i efectes biològics\nNormativa i legislació bàsica aplicable\nProtecció radiològica bàsica i específica en instal·lacions de Rx\nPrograma de garantia de qualitat\nRequisits tècnics i administratius\n\n📅 Dates: 6/11 Inici Teòrica online\n13/12 Pràctica + examen \n💻 Modalitat: Semipresencial. Teoria online + pràctiques i examen presencial \nPràctiques: Centre Veterinari del Clínic \nExamen: Seu del COVB (Av. República Argentina\, 21-25\, Barcelona)\n💰 Preu: 240 € col·legiats/des COVB – 340 € no col·legiats/des\n🎓 Professorat: \n\nSanti Cano – Metge\, odontòleg\, supervisor d’instal·lacions radiològiques i expert en protecció radiològica (pràctiques teòriques i examen)\nMarc Saladrigas – Tècnic expert en radiologia (pràctiques)\n\n⚠ Places limitades per rigorós ordre d’inscripció. \n📩 Inscripcions fins al 03/11/2025: enviar un correu a formacio@covb.cat amb fotocòpia del DNI i del títol universitari en Veterinària. \nDescarregar PDF
URL:https://www.covb.cat/formacio/curs-per-a-lacreditacio-com-a-director-a-dinstallacions-de-radiodiagnostic-veterinari/
CATEGORIES:Certificacions
ATTACH;FMTTYPE=image/jpeg:https://www.covb.cat/wp-content/uploads/2025/08/Director-RX-WEB.jpg
END:VEVENT
END:VCALENDAR