BEGIN:VCALENDAR
VERSION:2.0
PRODID:-//COVB - ECPv5.16.4.1//NONSGML v1.0//EN
CALSCALE:GREGORIAN
METHOD:PUBLISH
X-WR-CALNAME:COVB
X-ORIGINAL-URL:https://www.covb.cat
X-WR-CALDESC:Esdeveniments per COVB
BEGIN:VTIMEZONE
TZID:Europe/Madrid
BEGIN:DAYLIGHT
TZOFFSETFROM:+0100
TZOFFSETTO:+0200
TZNAME:CEST
DTSTART:20210328T010000
END:DAYLIGHT
BEGIN:STANDARD
TZOFFSETFROM:+0200
TZOFFSETTO:+0100
TZNAME:CET
DTSTART:20211031T010000
END:STANDARD
END:VTIMEZONE
BEGIN:VEVENT
DTSTART;VALUE=DATE:20211020
DTEND;VALUE=DATE:20211021
DTSTAMP:20260420T104208
CREATED:20211008T130654Z
LAST-MODIFIED:20211008T130654Z
UID:12467-1634688000-1634774399@www.covb.cat
SUMMARY:Alimentos de origen animal: beneficios y riesgos de su producción y consumo\, con un enfoque en los países en vías de desarrollo
DESCRIPTION:Pendent de sistemàtica i detalls per part del Consejo
URL:https://www.covb.cat/formacio/alimentos-de-origen-animal-beneficios-y-riesgos-de-su-produccion-y-consumo-con-un-enfoque-en-los-paises-en-vias-de-desarrollo/
CATEGORIES:Petits animals
ATTACH;FMTTYPE=image/jpeg:https://www.covb.cat/wp-content/uploads/2020/04/colvet.jpg
END:VEVENT
END:VCALENDAR