BEGIN:VCALENDAR
VERSION:2.0
PRODID:-//COVB - ECPv5.16.4.1//NONSGML v1.0//EN
CALSCALE:GREGORIAN
METHOD:PUBLISH
X-WR-CALNAME:COVB
X-ORIGINAL-URL:https://www.covb.cat/es/
X-WR-CALDESC:Eventos para COVB
BEGIN:VTIMEZONE
TZID:Europe/Madrid
BEGIN:DAYLIGHT
TZOFFSETFROM:+0100
TZOFFSETTO:+0200
TZNAME:CEST
DTSTART:20250330T010000
END:DAYLIGHT
BEGIN:STANDARD
TZOFFSETFROM:+0200
TZOFFSETTO:+0100
TZNAME:CET
DTSTART:20251026T010000
END:STANDARD
BEGIN:DAYLIGHT
TZOFFSETFROM:+0100
TZOFFSETTO:+0200
TZNAME:CEST
DTSTART:20260329T010000
END:DAYLIGHT
BEGIN:STANDARD
TZOFFSETFROM:+0200
TZOFFSETTO:+0100
TZNAME:CET
DTSTART:20261025T010000
END:STANDARD
BEGIN:DAYLIGHT
TZOFFSETFROM:+0100
TZOFFSETTO:+0200
TZNAME:CEST
DTSTART:20270328T010000
END:DAYLIGHT
BEGIN:STANDARD
TZOFFSETFROM:+0200
TZOFFSETTO:+0100
TZNAME:CET
DTSTART:20271031T010000
END:STANDARD
BEGIN:DAYLIGHT
TZOFFSETFROM:+0100
TZOFFSETTO:+0200
TZNAME:CEST
DTSTART:20280326T010000
END:DAYLIGHT
BEGIN:STANDARD
TZOFFSETFROM:+0200
TZOFFSETTO:+0100
TZNAME:CET
DTSTART:20281029T010000
END:STANDARD
BEGIN:DAYLIGHT
TZOFFSETFROM:+0100
TZOFFSETTO:+0200
TZNAME:CEST
DTSTART:20290325T010000
END:DAYLIGHT
BEGIN:STANDARD
TZOFFSETFROM:+0200
TZOFFSETTO:+0100
TZNAME:CET
DTSTART:20291028T010000
END:STANDARD
END:VTIMEZONE
BEGIN:VEVENT
DTSTART;VALUE=DATE:20250101
DTEND;VALUE=DATE:20300101
DTSTAMP:20260423T002732
CREATED:20260331T145008Z
LAST-MODIFIED:20260407T104808Z
UID:68479-1735689600-1893455999@www.covb.cat
SUMMARY:Nuevo programa COVB–AVEPA: formación continuada en medicina y cirugía de pequeños animales y exóticos
DESCRIPTION:El Colegio Oficial de Veterinarios de Barcelona (COVB) y la Asociación de Veterinarios Españoles Especialistas en Pequeños Animales (AVEPA) impulsan un programa conjunto de formación continuada con el objetivo de reforzar las competencias clínicas de los profesionales veterinarios. \nEn el marco de este acuerdo —vigente hasta 2028— se presenta el curso online “Fundamentos de Medicina y Cirugía General en Pequeños Animales y Exóticos”\, una propuesta formativa dirigida a veterinarios clínicos\, hospitalarios\, recién graduados y estudiantes de últimos cursos. \nEste programa responde a la necesidad de consolidar conocimientos esenciales y mejorar la capacidad de resolución en la práctica clínica diaria\, mediante un enfoque práctico basado en casos reales. \nUn programa estructurado y orientado a la práctica clínica \nEl curso se organiza en 12 módulos temáticos que abarcan las principales áreas de la medicina veterinaria de pequeños animales\, incluyendo: \n\nMódulo 1: Vacunación\, nociones esenciales de inmunología y enfermedades infecciosas (patrocinado por Zoetis) ¡YA DISPONIBLE!\nMódulo 2: Enfermedades infecciosas de importancia clínica en pequeños animales. Mayo de 2026\nMódulo 3: Dermatología clínica aplicada al veterinario generalista (patrocinado por Zoetis y Hill’s). Octubre de 2026\nMódulo 4: Gastroenterología clínica para el veterinario generalista (patrocinado por Hill’s). Enero de 2027\nMódulo 5: Nutrición clínica para perros y gatos (patrocinado por Hill’s). Mayo de 2027\nMódulo 6: Reproducción\, control y patología reproductiva en pequeñas especies. Octubre de 2027\nMódulo 7: Etología para el clínico generalista. Enero de 2028\nMódulo 8: Abordaje práctico del paciente con signos respiratorios. Mayo de 2028\nMódulo 9: Anestesia en perros y gatos en una clínica generalista. Octubre de 2028\nMódulo 10: Exóticos para veterinarios generalistas. Enero de 2029\nMódulo 11: El veterinario generalista ante la cardiología en perros y gatos. Mayo de 2029\nMódulo 12: Endocrinología en la práctica clínica diaria. Octubre de 2029\n\nSólo se puede inscribir cuando ponga que el módulo está YA DISPONIBLE. \nCada módulo combina contenidos teóricos esenciales con un enfoque diagnóstico y terapéutico aplicable a la consulta\, incorporando casos clínicos\, algoritmos y herramientas prácticas para mejorar el razonamiento clínico y la comunicación con los propietarios. \nMetodología flexible y enfoque progresivo \nLa formación se desarrolla en modalidad 100% online\, con acceso flexible y lanzamiento progresivo de los contenidos\, lo que permite adaptar el aprendizaje al ritmo de cada profesional. \nLos participantes dispondrán de: \n\nContenido teórico estructurado\nRecursos prácticos aplicados a la clínica\nMateriales complementarios de apoyo\n\nEl programa incluye un módulo introductorio gratuito centrado en el abordaje del caso clínico\, impartido por Luis Feo. \nUn proyecto estratégico de formación continuada \nEste curso forma parte del convenio de colaboración entre el COVB y AVEPA para el periodo 2025-2028\, que contempla varias ediciones del programa\, reforzando el compromiso con el acceso a formación de calidad. \n📅 Periodo: 2025–2029 (lanzamiento progresivo de módulos)\n⏳ Duración: +120 horas de formación\n💻 Modalidad: Online\n🎓 Plazas gratuitas: para colegiados/as del COVB y socios de AVEPA\n💰 Precio general: 60 € por módulo \nEsta formación proporciona herramientas prácticas para reforzar la toma de decisiones y aportar seguridad en la gestión clínica de los pacientes. \n👉 Consulta toda la información del programa y realiza tu inscripción aquí. \nDesde el COVB seguimos impulsando iniciativas que contribuyen a la formación continuada y a la excelencia profesional del colectivo veterinario. Consulta el programa y accede a la formación a través de los canales habituales del Colegio.
URL:https://www.covb.cat/es/formacio/nuevo-programa-covb-avepa-formacion-continuada-en-medicina-y-cirugia-de-pequenos-animales-y-exoticos/
CATEGORIES:Pequeños animales
ATTACH;FMTTYPE=image/jpeg:https://www.covb.cat/wp-content/uploads/2026/03/Formacio-COVB-AVEPA-WEB.jpg
END:VEVENT
BEGIN:VEVENT
DTSTART;VALUE=DATE:20251117
DTEND;VALUE=DATE:20260801
DTSTAMP:20260423T002732
CREATED:20251117T103433Z
LAST-MODIFIED:20251117T103540Z
UID:64108-1763337600-1785542399@www.covb.cat
SUMMARY:Diploma de posgrado de cirugía y anestesia en pequeños animales (UAB)
DESCRIPTION:La Universidad Autónoma de Barcelona lanza la edición 2024-2025 del Diploma de posgrado de cirugía y anestesia en pequeños animales\, una formación semipresencial de 30 créditos ECTS dirigida a veterinarios clínicos que desean dar un salto cualitativo en su práctica quirúrgica y en sus protocolos anestésicos.\nEste programa está organizado por la Escuela de Posgrado de la UAB\, el Departamento de Medicina y Cirugía Animal\, la Facultad de Veterinaria y la Fundació Hospital Clínic Veterinari\, y combina una sólida base teórica con un intenso componente práctico guiado por especialistas. El objetivo es que el profesional gane seguridad en el quirófano\, mejore los resultados de sus cirugías y reduzca el número de casos que necesita derivar. \nEl diploma se estructura en tres niveles de cirugía y un curso específico de anestesia y analgesia\, que permiten avanzar de forma progresiva: \n\nCurso básico: cirugías más habituales de tejidos blandos en pequeños animales.\nCurso avanzado: cirugía torácica y de la cavidad oral.\nCurso experto: cirugía oncológica y tratamiento del shunt portosistémico.\nCurso de anestesia y analgesia: revisión y actualización profunda de los protocolos anestésicos\, manejo del dolor y mejora de la seguridad del paciente.\n\nLas sesiones presenciales se realizan en distintas sedes del Estado (Madrid\, Barcelona\, Santiago de Compostela\, Águeda\, Málaga\, Valencia y Alicante)\, con grupos reducidos para favorecer el trabajo práctico. En cada módulo\, el alumnado practica las técnicas que se le muestran y recibe consejos y “trucos” aplicables directamente a la clínica diaria. \nAl finalizar el programa\, el veterinario habrá consolidado criterios para indicar y planificar cirugías de diferente complejidad\, optimizar los tiempos quirúrgicos\, minimizar complicaciones e implantar protocolos anestésicos más seguros y eficientes\, con un impacto directo en el bienestar del paciente y en la rentabilidad de la clínica. \n📅 Fechas: edición 2024-2025\n⏳ Créditos: 30 ECTS (European Credit Transfer System)\n💻 Modalidad: semipresencial\n💰 Precio: consultar condiciones e importe actualizado en la web de la UAB\n👨‍🏫 Profesorado: especialistas en cirugía y anestesia veterinaria de la Facultad de Veterinaria de la UAB y de la Fundació Hospital Clínic Veterinari\n📩 Información e inscripciones: \n\nWeb: Posgrado Online en cirugía y antestesia de Pequeños Animales\nWhatsapp: 682 057 456\nCorreu: garcia@uab.cat\nInscripcions: a través de la web de la UAB\n\n\n\nDescargar PDF
URL:https://www.covb.cat/es/formacio/diploma-de-postgrau-de-cirurgia-i-anestesia-en-petits-animals-uab/
CATEGORIES:Pequeños animales
ATTACH;FMTTYPE=image/jpeg:https://www.covb.cat/wp-content/uploads/2025/11/Postgrau-cirurgia-UAB-WEB.jpg
END:VEVENT
BEGIN:VEVENT
DTSTART;VALUE=DATE:20260110
DTEND;VALUE=DATE:20260311
DTSTAMP:20260423T002732
CREATED:20260102T084802Z
LAST-MODIFIED:20260102T084857Z
UID:65481-1768003200-1773187199@www.covb.cat
SUMMARY:Nuevo caso clínico interactivo de avicultura en Campus Colvet
DESCRIPTION:El Consejo General de Colegios de la Profesión Veterinaria de España lanza un nuevo caso clínico interactivo de avicultura\, dirigido a veterinarios colegiados y disponible de forma gratuita a través de la plataforma de formación online Campus Colvet. \nEste caso práctico permite trabajar el razonamiento clínico a partir del análisis de la historia del caso\, la anamnesis y la exploración clínica\, planteando de forma progresiva preguntas sobre diagnóstico diferencial\, pruebas diagnósticas y tratamientos\, con el objetivo de alcanzar la mejor solución posible. \nDescripción del caso \nEl caso se inicia con la consulta de una granja de gallinas reproductoras en el mes de enero debido a un aumento repentino de la mortalidad\, con 15–20 bajas diarias.\nSegún los antecedentes\, unas 27 semanas antes habían aparecido los primeros síntomas respiratorios e inespecíficos (apatía\, anorexia…)\, con una mortalidad de 3–4 animales al día. \nEl veterinario habitual realizó una toma de muestras traqueales\, aislando Escherichia coli\, y recomendó revisar las condiciones de ventilación de la nave\, además de instaurar un tratamiento antibiótico con amoxicilina. \nA partir de este punto\, el participante deberá continuar la exploración clínica y elaborar el diagnóstico diferencial teniendo en cuenta los síntomas generales\, respiratorios y nerviosos detectados\, decidir qué pruebas realizar y seleccionar el tratamiento más adecuado. \nDatos de la formación \n📅 Fechas: del 10 de enero al 10 de marzo de 2026\n⏳ Duración aproximada: 5 horas\n💻 Modalidad: online (Campus Colvet)\n💰 Precio: gratuito\n🎓 Exclusivo para colegiados/as \n📩 Inscripciones:\nhttps://colvetcampus.es/CASO-CLINICO-AVICULTURA-2026_es_4_171.html \nAutoras del caso \nVerónica Cortés Moñiz\nLicenciada en Veterinaria por la Universidad de Zaragoza (2010) y doctora industrial por la Universidad Politécnica de Valencia (2022) en el programa de Ciencia y Tecnología de la Producción Animal. Máster en Sistemas de Gestión Integrados de Calidad\, Medio Ambiente y Prevención de Riesgos Laborales. Responsable del Área de Sanidad Animal y Seguridad Alimentaria del Centro de Calidad Avícola y Alimentación Animal de la Comunidad Valenciana (CECAV). \nSandra Sevilla-Navarro\nDoctora en Veterinaria con mención Internacional e Industrial por la Universidad Politécnica de Valencia y Diplomada Europea por el European College of Poultry Veterinary Science (ECPVS). Actualmente es responsable de I+D en el Centro de Calidad Avícola y Alimentación Animal de la Comunidad Valenciana (CECAV). \n  \nDescargar PDF
URL:https://www.covb.cat/es/formacio/nuevo-caso-clinico-interactivo-de-avicultura-en-campus-colvet/
CATEGORIES:Avicultura
ATTACH;FMTTYPE=image/jpeg:https://www.covb.cat/wp-content/uploads/2026/01/Cas-clinic-avicultura-WEB.jpg
END:VEVENT
BEGIN:VEVENT
DTSTART;VALUE=DATE:20260116
DTEND;VALUE=DATE:20260328
DTSTAMP:20260423T002732
CREATED:20251215T103200Z
LAST-MODIFIED:20251215T103248Z
UID:65071-1768521600-1774655999@www.covb.cat
SUMMARY:Nueva microcredencial StartAgriFood para impulsar el emprendimiento en el sector agroalimentario
DESCRIPTION:La Universitat de Barcelona (UB) y el Institut de Formació Contínua IL3 presentan StartAgriFood\, una nueva microcredencial diseñada para ofrecer herramientas prácticas\, visión estratégica y competencias emprendedoras a profesionales que quieren transformar ideas en proyectos reales\, viables y con impacto en el sector agroalimentario catalán. \nEl programa se enmarca en el Plan INNOVA 2030 y cuenta con la colaboración del Departament d’Agricultura\, Ramaderia\, Pesca i Alimentació\, así como el apoyo del Campus de l’Alimentació de Torribera – UB y StartUB!. \n¿A quién se dirige? \nA profesionales del sistema agroalimentario que deseen iniciar o consolidar un proyecto de innovación: productores\, transformadores\, técnicos\, innovadores\, profesionales del sector\, cooperativas y agentes alimentarios.\nNo se requiere titulación previa. \n¿Qué ofrece? \nStartAgriFood proporciona un espacio práctico y colaborativo para: \n\nActivar el espíritu emprendedor y formular un modelo de negocio viable\, sostenible y alineado con las demandas actuales del mercado.\nIdentificar oportunidades reales y generar soluciones innovadoras dentro del propio ámbito profesional.\nDesarrollar competencias clave en sectores que valoran la iniciativa\, la creatividad y la autonomía.\n\nTres razones para elegirlo \n\nFormación reconocida: certificado oficial de Microcredencial Universitaria (UB)\, registrado en Europass.\nImpulso de proyectos agroalimentarios: herramientas y acompañamiento para transformar ideas en iniciativas sólidas.\nDesarrollo del talento: aprendizaje aplicado en un entorno colaborativo y orientado a retos reales.\n\nDatos prácticos del curso \n📅 Fechas: 16 de enero – 27 de marzo de 2026\n🕒 Horario: viernes\, 10.00–13.00 h\n🏫 Modalidad: Semipresencial (6 sesiones presenciales + 4 online + contenidos asíncronos)\n📍 Ubicaciones:\n• Campus de l’Alimentació de Torribera (UB)\, Santa Coloma de Gramenet\n• StartUB! – Barcelona\n🎓 Créditos: 3 ECTS (75 h)\n💰 Coste: 374 €\n🔥 Precio reducido: 136 € (para personas de 25 a 64 años\, con nacionalidad española y residentes en España)\n✍ Inscríbete  antes del 19 de desembre de 2025 aquí (plazas limitadas). \nPara cualquier consulta: microcred.info@il3.ub.edu | +34 93 309 36 54
URL:https://www.covb.cat/es/formacio/nueva-microcredencial-startagrifood-para-impulsar-el-emprendimiento-en-el-sector-agroalimentario/
CATEGORIES:Sector agroalimentari
ATTACH;FMTTYPE=image/jpeg:https://www.covb.cat/wp-content/uploads/2025/12/Formacio-Agroalimentaria-WEB.jpg
END:VEVENT
BEGIN:VEVENT
DTSTART;VALUE=DATE:20260120
DTEND;VALUE=DATE:20260321
DTSTAMP:20260423T002732
CREATED:20260112T192112Z
LAST-MODIFIED:20260112T192209Z
UID:65777-1768867200-1774051199@www.covb.cat
SUMMARY:Indicadores de evaluación del bienestar animal
DESCRIPTION:El bienestar animal es un pilar clave de la producción sostenible. Este curso online asíncrono te permitirá revisar el concepto de bienestar animal desde una perspectiva multidisciplinar\, conocer los principales indicadores de evaluación (basados en el animal y en los recursos) y entender cómo se aplican en los sistemas de certificación en distintos sectores productivos. \nObjetivos del curso \n\nRevisar el concepto de bienestar animal y sus principios/dominios.\nConocer los tipos de indicadores y criterios para seleccionarlos (validez\, repetibilidad y practicabilidad).\nFamiliarizarse con la metodología de evaluación y la interpretación de resultados.\nComprender la integración de los indicadores en sistemas de certificación.\n\nContenidos \n\nMódulo 1. Introducción: concepto de bienestar\, principios/dominios y tipos de medidas.\nMódulo 2. Certificación: esquemas\, evolución\, UE y sistemas de etiquetado.\nMódulo 3. Producción porcina: metodología e integración de indicadores.\nMódulo 4. Producción bovina: metodología e integración de indicadores.\nMódulo 5. Sector avícola: metodología e integración de indicadores.\nMódulo 6. Matadero: metodología e integración de indicadores.\nMódulo 7. Autoevaluación.\n\n📅 Fechas: del 20 de enero al 20 de marzo de 2026\n⏳ Duración: 20 horas\n💻 Modalidad: online asíncrona (videotutoriales)\n💰 Precio: 60 €\n🎓 Certificado: de aprovechamiento al completar todos los contenidos\n🏫 Plataforma: Campus Colvet (exclusivo para colegiados)\n👨‍🏫 Autor: Antonio Velarde Calvo\n📩 Inscripciones aquí. \nSobre el docente \nAntonio Velarde Calvo es veterinario y doctor por la UAB\, investigador en el IRTA y especialista en bienestar animal\, ética y legislación (ECAWBM). Ha participado en proyectos europeos (DG SANTE) y es miembro del Panel de Salud y Bienestar Animal de la EFSA\, entre otras responsabilidades científicas. \nDescargar PDF
URL:https://www.covb.cat/es/formacio/indicadores-de-evaluacion-del-bienestar-animal/
CATEGORIES:Bienestar animal
ATTACH;FMTTYPE=image/jpeg:https://www.covb.cat/wp-content/uploads/2026/01/Formacio-benestar-animal-WEB.jpg
END:VEVENT
BEGIN:VEVENT
DTSTART;VALUE=DATE:20260212
DTEND;VALUE=DATE:20260327
DTSTAMP:20260423T002732
CREATED:20260202T140825Z
LAST-MODIFIED:20260202T140913Z
UID:66516-1770854400-1774569599@www.covb.cat
SUMMARY:Fundación Galatea inicia 2026 con nuevas propuestas formativas y hace balance de 2025
DESCRIPTION:El COVB vela por el bienestar emocional y la salud mental de las veterinarias y los veterinarios\, y recuerda que pedir ayuda es un acto de responsabilidad y cuidado dentro de la profesión. En este marco\, el Consell de Col·legis Veterinaris de Catalunya (CCVC)\, con la colaboración de la Fundación Galatea —entidad socia colaboradora del Programa Assís— impulsa este recurso asistencial confidencial y gratuito destinado a la atención de la salud de los profesionales veterinarios colegiados. En este contexto\, la Fundación Galatea inicia 2026 con nuevas propuestas formativas y hace balance de la actividad desarrollada durante 2025. \nEl año 2025 ha estado marcado por una intensa actividad en el ámbito de la promoción de la salud y la formación\, así como por una elevada demanda de los servicios asistenciales. Las cifras confirman la necesidad de seguir impulsando espacios de prevención\, formación y acompañamiento dirigidos a los profesionales de la salud. \nBalance 2025: cifras destacadas \nPromoción de la salud y prevención \n\n106 formaciones y cursos autoformativos\, alcanzando a 2.758 personas.\n16 actividades de sensibilización.\n36 actuaciones en equipos y organizaciones.\n\nServicios asistenciales \n\n1.639 nuevos casos de profesionales de la salud derivados a los servicios asistenciales de la Fundación Galatea.\n\nEste balance refuerza la importancia de seguir desarrollando iniciativas que integren formación\, prevención y atención especializada en los entornos profesionales. \nNuevas propuestas formativas 2026 \n📅 12 de febrero de 2026\nVivir con tiempo\nWebinar orientado a adquirir herramientas prácticas para gestionar el tiempo de forma más sostenible y favorecer el equilibrio entre la vida profesional y personal. \n📅 11 de marzo de 2026\nNueva edición del taller “Desestrésate”\nTaller práctico para comprender mejor el estrés e iniciar procesos de cambio personal mediante dinámicas de pausa y reflexión. \n📅 13 de marzo de 2026\nLa compasión como herramienta de cuidado y autocuidado\nSeminario centrado en el desarrollo de la compasión como elemento clave en los servicios de salud centrados en la persona. \n📅 18 y 19 de marzo de 2026\nSupervivencia a las guardias: estrategias para residentes\nFormación práctica para dotar a los residentes de herramientas para gestionar las guardias\, la organización del tiempo y el autocuidado antes\, durante y después de estas jornadas. \n📅 26 de marzo de 2026\nEstableciendo límites saludables en el trabajo\nTaller con estrategias prácticas para incorporar límites sanos en el ejercicio profesional y reforzar hábitos de autocuidado. \nRevisa todas las formaciones disponibles aquí.
URL:https://www.covb.cat/es/formacio/fundacion-galatea-inicia-2026-con-nuevas-propuestas-formativas-y-hace-balance-de-2025/
CATEGORIES:Habilidades personales
ATTACH;FMTTYPE=image/jpeg:https://www.covb.cat/wp-content/uploads/2026/02/Balanc-Fundacio-Galatea-WEB.jpg
END:VEVENT
BEGIN:VEVENT
DTSTART;VALUE=DATE:20260220
DTEND;VALUE=DATE:20260321
DTSTAMP:20260423T002732
CREATED:20260202T140532Z
LAST-MODIFIED:20260202T140612Z
UID:66509-1771545600-1774051199@www.covb.cat
SUMMARY:Veterinaria 4.0: aplicaciones de la inteligencia artificial en producción y seguridad alimentaria
DESCRIPTION:El Consejo General de Colegios de la Profesión Veterinaria de España presenta el curso online Veterinaria 4.0\, una formación diseñada para acompañar al sector veterinario y agroalimentario en la transición hacia un modelo basado en datos\, inteligencia y precisión. \nEl programa ofrece una visión científica\, aplicada y accesible de la inteligencia artificial\, con el objetivo de que deje de percibirse como una tecnología distante y se convierta en una herramienta práctica al servicio del veterinario\, del productor y de toda la cadena alimentaria. La formación pone el foco en el uso responsable y estratégico de la IA\, sin sustituir el criterio técnico\, la experiencia de campo ni los valores éticos de la profesión. \nA lo largo del curso se abordan aplicaciones concretas de la inteligencia artificial en producción animal\, diagnóstico precoz\, vigilancia sanitaria\, bienestar animal\, nutrición de precisión\, trazabilidad\, seguridad alimentaria y sostenibilidad\, así como los aspectos normativos\, éticos y de ciberseguridad vinculados a su implementación. \nObjetivos de la formación \n\nComprender los fundamentos técnicos y conceptuales de la inteligencia artificial en el ámbito veterinario.\nAnalizar y gestionar datos productivos y sanitarios para modelos predictivos.\nAplicar la IA al diagnóstico precoz y a la vigilancia sanitaria.\nIntegrar sensores inteligentes\, IoT y sistemas de monitorización animal.\nMejorar el bienestar animal\, la alimentación y la selección genética mediante modelos predictivos.\nImplementar sistemas de trazabilidad y seguridad alimentaria basados en IA y blockchain.\nDiseñar estrategias de producción sostenible y optimización de recursos.\nUtilizar la IA para optimizar la gestión manteniendo el criterio técnico profesional.\n\n📅 Fechas: del 20 de febrero al 20 de marzo de 2026\n⏳ Duración: 10 horas\n💻 Modalidad: Online asíncrona (videotutoriales)\n💰 Precio: 40 €\n🎓 Certificado: certificado de aprovechamiento\n🔒 Exclusivo para colegiados/as \n👨‍🏫 Autor: Alejandro Elson Loro\, licenciado en Veterinaria\, máster en Administración de Empresas y certificado en habilidades digitales. Veterinario consultor especializado en digitalización\, comunicación\, marketing y gestión veterinaria. \n📩 Inscripciones aquí . \nDescargar PDF
URL:https://www.covb.cat/es/formacio/veterinaria-4-0-aplicaciones-de-la-inteligencia-artificial-en-produccion-y-seguridad-alimentaria/
CATEGORIES:Salud Pública y Seguridad Alimentaria
ATTACH;FMTTYPE=image/jpeg:https://www.covb.cat/wp-content/uploads/2026/02/Veterinaria-4.0-WEB.jpg
END:VEVENT
END:VCALENDAR