BEGIN:VCALENDAR
VERSION:2.0
PRODID:-//COVB - ECPv5.16.4.1//NONSGML v1.0//EN
CALSCALE:GREGORIAN
METHOD:PUBLISH
X-WR-CALNAME:COVB
X-ORIGINAL-URL:https://www.covb.cat/es/
X-WR-CALDESC:Eventos para COVB
BEGIN:VTIMEZONE
TZID:Europe/Madrid
BEGIN:DAYLIGHT
TZOFFSETFROM:+0100
TZOFFSETTO:+0200
TZNAME:CEST
DTSTART:20250330T010000
END:DAYLIGHT
BEGIN:STANDARD
TZOFFSETFROM:+0200
TZOFFSETTO:+0100
TZNAME:CET
DTSTART:20251026T010000
END:STANDARD
BEGIN:DAYLIGHT
TZOFFSETFROM:+0100
TZOFFSETTO:+0200
TZNAME:CEST
DTSTART:20260329T010000
END:DAYLIGHT
BEGIN:STANDARD
TZOFFSETFROM:+0200
TZOFFSETTO:+0100
TZNAME:CET
DTSTART:20261025T010000
END:STANDARD
BEGIN:DAYLIGHT
TZOFFSETFROM:+0100
TZOFFSETTO:+0200
TZNAME:CEST
DTSTART:20270328T010000
END:DAYLIGHT
BEGIN:STANDARD
TZOFFSETFROM:+0200
TZOFFSETTO:+0100
TZNAME:CET
DTSTART:20271031T010000
END:STANDARD
BEGIN:DAYLIGHT
TZOFFSETFROM:+0100
TZOFFSETTO:+0200
TZNAME:CEST
DTSTART:20280326T010000
END:DAYLIGHT
BEGIN:STANDARD
TZOFFSETFROM:+0200
TZOFFSETTO:+0100
TZNAME:CET
DTSTART:20281029T010000
END:STANDARD
BEGIN:DAYLIGHT
TZOFFSETFROM:+0100
TZOFFSETTO:+0200
TZNAME:CEST
DTSTART:20290325T010000
END:DAYLIGHT
BEGIN:STANDARD
TZOFFSETFROM:+0200
TZOFFSETTO:+0100
TZNAME:CET
DTSTART:20291028T010000
END:STANDARD
END:VTIMEZONE
BEGIN:VEVENT
DTSTART;VALUE=DATE:20250101
DTEND;VALUE=DATE:20300101
DTSTAMP:20260425T212948
CREATED:20260331T145008Z
LAST-MODIFIED:20260407T104808Z
UID:68479-1735689600-1893455999@www.covb.cat
SUMMARY:Nuevo programa COVB–AVEPA: formación continuada en medicina y cirugía de pequeños animales y exóticos
DESCRIPTION:El Colegio Oficial de Veterinarios de Barcelona (COVB) y la Asociación de Veterinarios Españoles Especialistas en Pequeños Animales (AVEPA) impulsan un programa conjunto de formación continuada con el objetivo de reforzar las competencias clínicas de los profesionales veterinarios. \nEn el marco de este acuerdo —vigente hasta 2028— se presenta el curso online “Fundamentos de Medicina y Cirugía General en Pequeños Animales y Exóticos”\, una propuesta formativa dirigida a veterinarios clínicos\, hospitalarios\, recién graduados y estudiantes de últimos cursos. \nEste programa responde a la necesidad de consolidar conocimientos esenciales y mejorar la capacidad de resolución en la práctica clínica diaria\, mediante un enfoque práctico basado en casos reales. \nUn programa estructurado y orientado a la práctica clínica \nEl curso se organiza en 12 módulos temáticos que abarcan las principales áreas de la medicina veterinaria de pequeños animales\, incluyendo: \n\nMódulo 1: Vacunación\, nociones esenciales de inmunología y enfermedades infecciosas (patrocinado por Zoetis) ¡YA DISPONIBLE!\nMódulo 2: Enfermedades infecciosas de importancia clínica en pequeños animales. Mayo de 2026\nMódulo 3: Dermatología clínica aplicada al veterinario generalista (patrocinado por Zoetis y Hill’s). Octubre de 2026\nMódulo 4: Gastroenterología clínica para el veterinario generalista (patrocinado por Hill’s). Enero de 2027\nMódulo 5: Nutrición clínica para perros y gatos (patrocinado por Hill’s). Mayo de 2027\nMódulo 6: Reproducción\, control y patología reproductiva en pequeñas especies. Octubre de 2027\nMódulo 7: Etología para el clínico generalista. Enero de 2028\nMódulo 8: Abordaje práctico del paciente con signos respiratorios. Mayo de 2028\nMódulo 9: Anestesia en perros y gatos en una clínica generalista. Octubre de 2028\nMódulo 10: Exóticos para veterinarios generalistas. Enero de 2029\nMódulo 11: El veterinario generalista ante la cardiología en perros y gatos. Mayo de 2029\nMódulo 12: Endocrinología en la práctica clínica diaria. Octubre de 2029\n\nSólo se puede inscribir cuando ponga que el módulo está YA DISPONIBLE. \nCada módulo combina contenidos teóricos esenciales con un enfoque diagnóstico y terapéutico aplicable a la consulta\, incorporando casos clínicos\, algoritmos y herramientas prácticas para mejorar el razonamiento clínico y la comunicación con los propietarios. \nMetodología flexible y enfoque progresivo \nLa formación se desarrolla en modalidad 100% online\, con acceso flexible y lanzamiento progresivo de los contenidos\, lo que permite adaptar el aprendizaje al ritmo de cada profesional. \nLos participantes dispondrán de: \n\nContenido teórico estructurado\nRecursos prácticos aplicados a la clínica\nMateriales complementarios de apoyo\n\nEl programa incluye un módulo introductorio gratuito centrado en el abordaje del caso clínico\, impartido por Luis Feo. \nUn proyecto estratégico de formación continuada \nEste curso forma parte del convenio de colaboración entre el COVB y AVEPA para el periodo 2025-2028\, que contempla varias ediciones del programa\, reforzando el compromiso con el acceso a formación de calidad. \n📅 Periodo: 2025–2029 (lanzamiento progresivo de módulos)\n⏳ Duración: +120 horas de formación\n💻 Modalidad: Online\n🎓 Plazas gratuitas: para colegiados/as del COVB y socios de AVEPA\n💰 Precio general: 60 € por módulo \nEsta formación proporciona herramientas prácticas para reforzar la toma de decisiones y aportar seguridad en la gestión clínica de los pacientes. \n👉 Consulta toda la información del programa y realiza tu inscripción aquí. \nDesde el COVB seguimos impulsando iniciativas que contribuyen a la formación continuada y a la excelencia profesional del colectivo veterinario. Consulta el programa y accede a la formación a través de los canales habituales del Colegio.
URL:https://www.covb.cat/es/formacio/nuevo-programa-covb-avepa-formacion-continuada-en-medicina-y-cirugia-de-pequenos-animales-y-exoticos/
CATEGORIES:Pequeños animales
ATTACH;FMTTYPE=image/jpeg:https://www.covb.cat/wp-content/uploads/2026/03/Formacio-COVB-AVEPA-WEB.jpg
END:VEVENT
BEGIN:VEVENT
DTSTART;VALUE=DATE:20251101
DTEND;VALUE=DATE:20260122
DTSTAMP:20260425T212948
CREATED:20251110T130345Z
LAST-MODIFIED:20251110T131341Z
UID:62761-1761955200-1769039999@www.covb.cat
SUMMARY:Actividades planificadas para noviembre y diciembre
DESCRIPTION:El Consejo General de Colegios Veterinarios de España presenta el plan formativo de noviembre y diciembre de 2025\, con una amplia oferta de formaciones online\, seminarios web y cursos presenciales dirigidos a profesionales veterinarios de distintas áreas. \nLas actividades se estructuran en cuatro bloques: contenidos transversales\, animales de compañía\, animales de producción\, seguridad alimentaria y otras especies. \nEntre las principales propuestas destacan: \nNoviembre \n\nCaso clínico: Medicina Interna – del 1 de noviembre al 30 de diciembre (2 h) – María Sánchez Encinas.\nCurso online: Interpretación ecográfica (nivel avanzado) – del 1 al 31 de noviembre (10 h) – Marta Moreira.\nFormación online: Estatutos y deontología colegiales – 12 de noviembre. Acreditada por AVEPA.\nCurso Superior de Especialización Veterinaria en Espectáculos Taurinos – del 14 al 23 de noviembre (50 h). Presencial en Castellón y Cuenca.\nCurso online: Nutrición para la promoción de la salud en el caballo – del 17 de noviembre al 17 de diciembre (10 h) – Marga Mas.\nWebseminar: Importancia del consentimiento informado y del historial clínico en la responsabilidad profesional veterinaria – 19 de noviembre (14:00–15:30 h) – Alfredo Fernández.\nCurso online: Perros de deporte y trabajo: evaluación\, nutrición y manejo de patologías – del 21 de noviembre de 2025 al 21 de enero de 2026 (17 h) – Mª Pilar Lafuente Baigorri.\n\nDiciembre \n\nCurso online: Oftalmología equina – del 1 al 31 de diciembre (10 h) – Eva M. Abarca.\nWebseminar: Elementos básicos en el maltrato animal. Diagnóstico e identificación de lesiones no accidentales – 4 de diciembre (14:00–15:30 h).\nFormación online: Estatutos y deontología colegiales – 16 de diciembre. Acreditada por AVEPA.\nWebseminar AEMPS: Autovacunas y tratamientos alternativos a los antibióticos en veterinaria – fecha pendiente de confirmación.\n\nTodas las formaciones están disponibles en la plataforma Campus Colvet\, donde se pueden consultar los contenidos detallados e inscribirse. \nConsulta la programación completa en Campus Colvet \nDescargar PDF
URL:https://www.covb.cat/es/formacio/actividades-planificadas-para-noviembre-y-diciembre/
CATEGORIES:General
ATTACH;FMTTYPE=image/jpeg:https://www.covb.cat/wp-content/uploads/2025/11/Formacions-CGCVE-WEB.jpg
END:VEVENT
BEGIN:VEVENT
DTSTART;VALUE=DATE:20251117
DTEND;VALUE=DATE:20260801
DTSTAMP:20260425T212948
CREATED:20251117T103433Z
LAST-MODIFIED:20251117T103540Z
UID:64108-1763337600-1785542399@www.covb.cat
SUMMARY:Diploma de posgrado de cirugía y anestesia en pequeños animales (UAB)
DESCRIPTION:La Universidad Autónoma de Barcelona lanza la edición 2024-2025 del Diploma de posgrado de cirugía y anestesia en pequeños animales\, una formación semipresencial de 30 créditos ECTS dirigida a veterinarios clínicos que desean dar un salto cualitativo en su práctica quirúrgica y en sus protocolos anestésicos.\nEste programa está organizado por la Escuela de Posgrado de la UAB\, el Departamento de Medicina y Cirugía Animal\, la Facultad de Veterinaria y la Fundació Hospital Clínic Veterinari\, y combina una sólida base teórica con un intenso componente práctico guiado por especialistas. El objetivo es que el profesional gane seguridad en el quirófano\, mejore los resultados de sus cirugías y reduzca el número de casos que necesita derivar. \nEl diploma se estructura en tres niveles de cirugía y un curso específico de anestesia y analgesia\, que permiten avanzar de forma progresiva: \n\nCurso básico: cirugías más habituales de tejidos blandos en pequeños animales.\nCurso avanzado: cirugía torácica y de la cavidad oral.\nCurso experto: cirugía oncológica y tratamiento del shunt portosistémico.\nCurso de anestesia y analgesia: revisión y actualización profunda de los protocolos anestésicos\, manejo del dolor y mejora de la seguridad del paciente.\n\nLas sesiones presenciales se realizan en distintas sedes del Estado (Madrid\, Barcelona\, Santiago de Compostela\, Águeda\, Málaga\, Valencia y Alicante)\, con grupos reducidos para favorecer el trabajo práctico. En cada módulo\, el alumnado practica las técnicas que se le muestran y recibe consejos y “trucos” aplicables directamente a la clínica diaria. \nAl finalizar el programa\, el veterinario habrá consolidado criterios para indicar y planificar cirugías de diferente complejidad\, optimizar los tiempos quirúrgicos\, minimizar complicaciones e implantar protocolos anestésicos más seguros y eficientes\, con un impacto directo en el bienestar del paciente y en la rentabilidad de la clínica. \n📅 Fechas: edición 2024-2025\n⏳ Créditos: 30 ECTS (European Credit Transfer System)\n💻 Modalidad: semipresencial\n💰 Precio: consultar condiciones e importe actualizado en la web de la UAB\n👨‍🏫 Profesorado: especialistas en cirugía y anestesia veterinaria de la Facultad de Veterinaria de la UAB y de la Fundació Hospital Clínic Veterinari\n📩 Información e inscripciones: \n\nWeb: Posgrado Online en cirugía y antestesia de Pequeños Animales\nWhatsapp: 682 057 456\nCorreu: garcia@uab.cat\nInscripcions: a través de la web de la UAB\n\n\n\nDescargar PDF
URL:https://www.covb.cat/es/formacio/diploma-de-postgrau-de-cirurgia-i-anestesia-en-petits-animals-uab/
CATEGORIES:Pequeños animales
ATTACH;FMTTYPE=image/jpeg:https://www.covb.cat/wp-content/uploads/2025/11/Postgrau-cirurgia-UAB-WEB.jpg
END:VEVENT
BEGIN:VEVENT
DTSTART;VALUE=DATE:20251121
DTEND;VALUE=DATE:20260122
DTSTAMP:20260425T212948
CREATED:20251103T130255Z
LAST-MODIFIED:20251103T130440Z
UID:62555-1763683200-1769039999@www.covb.cat
SUMMARY:Perros de deporte y trabajo: evaluación\, nutrición y manejo de patologías
DESCRIPTION:El Consejo General de Colegios Veterinarios de España presenta el curso online “Perros de deporte y trabajo: evaluación\, nutrición y manejo de patologías”\, disponible en la plataforma Campus Colvet del 21 de noviembre de 2025 al 21 de enero de 2026. \nEsta formación ofrece al veterinario una visión integral sobre el cuidado\, la preparación y el manejo clínico de los perros dedicados al deporte y al trabajo. A lo largo del curso se abordan los aspectos fundamentales de la medicina deportiva veterinaria\, incluyendo la evaluación física y funcional del animal\, su nutrición específica y el diagnóstico y manejo de las lesiones más frecuentes en las extremidades anterior y posterior. \nContenidos destacados: \n\nFundamentos de medicina deportiva y rehabilitación.\nValoración del potencial deportivo del cachorro.\nEntrenamiento y acondicionamiento físico.\nNutrición y suplementación según disciplina y necesidades energéticas.\nEvaluación de la marcha y biomecánica.\nDiagnóstico y manejo de lesiones en hombro\, codo\, cadera\, rodilla y tarso.\n\n👩‍🏫 Profesora: Mª Pilar Lafuente Baigorri\nDoctora en Veterinaria por la UAB\, diplomada americana y europea en cirugía de pequeños animales (DACVS-SA\, DECVS) y en medicina deportiva y rehabilitación veterinaria (DACVSMR). Ha sido profesora en el Royal Veterinary College (Londres) y en la Universidad CEU Cardenal Herrera\, y actualmente es PDI en la Universidad Internacional de La Rioja. \n📅 Fechas: 21 de noviembre de 2025 – 21 de enero de 2026\n⏳ Duración: 17 horas\n💻 Modalidad: Teleformación (contenidos grabados\, con tutorización mediante foros)\n💰 Precio: 50 €\n📩 Inscripciones: Campus Colvet (exclusivo para colegiados/as) \nDescargar PDF
URL:https://www.covb.cat/es/formacio/perros-de-deporte-y-trabajo-evaluacion-nutricion-y-manejo-de-patologias/
CATEGORIES:Pequeños animales
ATTACH;FMTTYPE=image/jpeg:https://www.covb.cat/wp-content/uploads/2025/11/Curs-gossos-de-treball-WEB.jpg
END:VEVENT
END:VCALENDAR