BEGIN:VCALENDAR
VERSION:2.0
PRODID:-//COVB - ECPv5.16.4.1//NONSGML v1.0//EN
CALSCALE:GREGORIAN
METHOD:PUBLISH
X-WR-CALNAME:COVB
X-ORIGINAL-URL:https://www.covb.cat/es/
X-WR-CALDESC:Eventos para COVB
BEGIN:VTIMEZONE
TZID:Europe/Madrid
BEGIN:DAYLIGHT
TZOFFSETFROM:+0100
TZOFFSETTO:+0200
TZNAME:CEST
DTSTART:20260329T010000
END:DAYLIGHT
BEGIN:STANDARD
TZOFFSETFROM:+0200
TZOFFSETTO:+0100
TZNAME:CET
DTSTART:20261025T010000
END:STANDARD
END:VTIMEZONE
BEGIN:VEVENT
DTSTART;TZID=Europe/Madrid:20260410T153000
DTEND;TZID=Europe/Madrid:20260410T194500
DTSTAMP:20260419T233527
CREATED:20260401T143050Z
LAST-MODIFIED:20260401T143249Z
UID:68535-1775835000-1775850300@www.covb.cat
SUMMARY:Jornada One Health en Lleida: una visión integrada de la salud
DESCRIPTION:El Institut d’Estudis Ilerdencs (IEI) acogerá el próximo 10 de abril de 2026 la jornada “One Health”\, una iniciativa que tiene como objetivo promover una visión integrada de la salud\, conectando los ámbitos humano\, animal y ambiental\, y fomentando el intercambio de conocimiento entre profesionales de distintas disciplinas. \nEsta jornada se plantea como un espacio de encuentro interdisciplinar\, con la participación de profesionales de referencia en el ámbito veterinario\, médico y científico\, que abordarán los principales retos actuales desde una perspectiva global y colaborativa. \nPrograma de la jornada \nLa sesión se iniciará con la inauguración institucional a cargo de representantes de la Diputación de Lleida y del sector veterinario. \nLa conferencia inaugural\, bajo el título “One Health: una visión integrada para los nuevos retos”\, será impartida por César Cierco Seira\, catedrático de Derecho Administrativo de la Universidad de Lleida. \nPosteriormente\, tendrá lugar la mesa redonda “Quién sabe qué”\, moderada por Laura Pérez Sala\, con la participación de profesionales de los ámbitos de la sanidad animal\, la salud pública\, la investigación y la medicina clínica\, que compartirán conocimiento y experiencias desde diferentes perspectivas . \nLa jornada se cerrará con una sesión de conclusiones a cargo de responsables de salud pública y seguridad alimentaria\, seguida de un espacio de networking entre asistentes. \nUna oportunidad para el colectivo veterinario \nEsta jornada representa una oportunidad para profundizar en el enfoque One Health y reforzar el papel del veterinario en la salud global\, especialmente en ámbitos como la seguridad alimentaria\, las zoonosis y la salud pública. \n📅 Fecha: 10 de abril de 2026\n🕓 Horario: de 15:30 h a 19:45 h\n📍 Lugar: Institut d’Estudis Ilerdencs (IEI)\, Lleida\n💻 Modalidad: Presencial\n📩 Inscripción aquí. \nDesde el COVB animamos a los colegiados y colegiadas a participar en esta jornada\, que contribuye a reforzar la colaboración entre disciplinas y avanzar hacia un modelo de salud más integrador. \nJornada One Health – Veterinaris – 10 abril IEI
URL:https://www.covb.cat/es/formacio/jornada-one-health-en-lleida-una-vision-integrada-de-la-salud/
CATEGORIES:Onehealth
END:VEVENT
END:VCALENDAR