BEGIN:VCALENDAR
VERSION:2.0
PRODID:-//COVB - ECPv5.16.4.1//NONSGML v1.0//EN
CALSCALE:GREGORIAN
METHOD:PUBLISH
X-WR-CALNAME:COVB
X-ORIGINAL-URL:https://www.covb.cat/es/
X-WR-CALDESC:Eventos para COVB
BEGIN:VTIMEZONE
TZID:Europe/Madrid
BEGIN:DAYLIGHT
TZOFFSETFROM:+0100
TZOFFSETTO:+0200
TZNAME:CEST
DTSTART:20210328T010000
END:DAYLIGHT
BEGIN:STANDARD
TZOFFSETFROM:+0200
TZOFFSETTO:+0100
TZNAME:CET
DTSTART:20211031T010000
END:STANDARD
END:VTIMEZONE
BEGIN:VEVENT
DTSTART;VALUE=DATE:20211007
DTEND;VALUE=DATE:20211112
DTSTAMP:20260421T105921
CREATED:20211008T130159Z
LAST-MODIFIED:20211008T130225Z
UID:12459-1633564800-1636675199@www.covb.cat
SUMMARY:III Jornadas Territoriales ACNV – OCV: Certificación de mascotas en viajes y normativa para movimiento de mascotas
DESCRIPTION:Webseminar de dijous en dijous \nDescarregar programa
URL:https://www.covb.cat/es/formacio/iii-jornadas-territoriales-acnv-ocv-certificacion-de-mascotas-en-viajes-y-normativa-para-movimiento-de-mascotas/
CATEGORIES:Pequeños animales
ATTACH;FMTTYPE=image/png:https://www.covb.cat/wp-content/uploads/2021/10/jornadasterritoriales.png
END:VEVENT
END:VCALENDAR