BEGIN:VCALENDAR
VERSION:2.0
PRODID:-//COVB - ECPv5.16.4.1//NONSGML v1.0//EN
CALSCALE:GREGORIAN
METHOD:PUBLISH
X-WR-CALNAME:COVB
X-ORIGINAL-URL:https://www.covb.cat/es/
X-WR-CALDESC:Eventos para COVB
BEGIN:VTIMEZONE
TZID:Europe/Madrid
BEGIN:DAYLIGHT
TZOFFSETFROM:+0100
TZOFFSETTO:+0200
TZNAME:CEST
DTSTART:20230326T010000
END:DAYLIGHT
BEGIN:STANDARD
TZOFFSETFROM:+0200
TZOFFSETTO:+0100
TZNAME:CET
DTSTART:20231029T010000
END:STANDARD
END:VTIMEZONE
BEGIN:VEVENT
DTSTART;TZID=Europe/Madrid:20231026T170000
DTEND;TZID=Europe/Madrid:20231026T183000
DTSTAMP:20260420T103528
CREATED:20231024T173747Z
LAST-MODIFIED:20231024T173844Z
UID:38710-1698339600-1698345000@www.covb.cat
SUMMARY:El uso del certificado digital en los trámites Veterinarios con la Administración Pública
DESCRIPTION:Los objetivos del webinar son saber cómo identificarnos a través de Internet\, tener una visión global de lo que nos ofrece la Administración Electrónica y la aplicación de firma electrónica\, y qué tipos de trámites podemos realizar.\n\n  FECHA: 26 de octubre de 2023 (17:00 horas a 18:30 horas)\n  PONENTE: Angel Darío Morón Feliz\n  LUGAR: en línea\n  PROGRAMA: Ver programa\n  PRECIO: gratuito
URL:https://www.covb.cat/es/formacio/el-uso-del-certificado-digital-en-los-tramites-veterinarios-con-la-administracion-publica/
CATEGORIES:Pequeños animales
ATTACH;FMTTYPE=image/jpeg:https://www.covb.cat/wp-content/uploads/2023/10/Captura2.jpg
END:VEVENT
END:VCALENDAR