BEGIN:VCALENDAR
VERSION:2.0
PRODID:-//COVB - ECPv5.16.4.1//NONSGML v1.0//EN
CALSCALE:GREGORIAN
METHOD:PUBLISH
X-WR-CALNAME:COVB
X-ORIGINAL-URL:https://www.covb.cat/es/
X-WR-CALDESC:Eventos para COVB
BEGIN:VTIMEZONE
TZID:Europe/Madrid
BEGIN:DAYLIGHT
TZOFFSETFROM:+0100
TZOFFSETTO:+0200
TZNAME:CEST
DTSTART:20260329T010000
END:DAYLIGHT
BEGIN:STANDARD
TZOFFSETFROM:+0200
TZOFFSETTO:+0100
TZNAME:CET
DTSTART:20261025T010000
END:STANDARD
END:VTIMEZONE
BEGIN:VEVENT
DTSTART;TZID=Europe/Madrid:20260622T140000
DTEND;TZID=Europe/Madrid:20260622T160000
DTSTAMP:20260423T225839
CREATED:20260420T081540Z
LAST-MODIFIED:20260420T081630Z
UID:69075-1782136800-1782144000@www.covb.cat
SUMMARY:Diagnóstico y tratamiento de la enfermedad renal crónica y proteinuria en el perro y el gato
DESCRIPTION:El COVB organiza una nueva sesión formativa presencial centrada en dos áreas de gran interés en la práctica clínica de pequeños animales: la actualización en el diagnóstico y tratamiento de la enfermedad renal crónica\, y el abordaje de la proteinuria en el perro y el gato. La formación ofrecerá una revisión práctica y actualizada de conceptos clave para el día a día clínico\, con especial atención a los marcadores renales\, a los nuevos fármacos y a los criterios diagnósticos que orientan la toma de decisiones. \nDurante la primera parte de la sesión se abordarán las novedades en el diagnóstico de la enfermedad renal crónica y la aplicación clínica de los principales marcadores renales. También se revisarán los tratamientos disponibles actualmente y los fármacos que se están utilizando o investigando en veterinaria. En la segunda parte\, la sesión se centrará en la proteinuria\, con una revisión de su abordaje diagnóstico\, incluyendo las causas prerrenales\, renales y posrenales\, así como los casos en los que debe valorarse la biopsia renal. \nLa ponente será Mireia Pascual Moreno\, graduada en Veterinaria por la Universitat Autònoma de Barcelona\, con formación clínica en Barcelona y en Reino Unido. Completó una residencia europea en medicina interna en DWR Veterinary Specialists y en 2024 se convirtió en diplomada europea en medicina interna. Actualmente trabaja en el Hospital Veterinari del Mar\, en Barcelona. \n📅 Fecha: Lunes 22 de junio de 2026\n🕑 Horario: De 14.00 h a 16.00 h\n📍 Modalidad: Presencial en el COVB\n💰 Precio: Gratuito para colegiados/as\n📩 Inscripciones: Enviar un correo a formacio@covb.cat\n⏰ Plazo de formalización de la inscripción: 18 de junio de 2026 \nDesde el COVB te animamos a reservar tu plaza y a participar en esta sesión para actualizar conocimientos clínicos en nefrología veterinaria aplicada al perro y al gato. \nFlyer Renal (PDF)
URL:https://www.covb.cat/es/formacio/diagnostico-y-tratamiento-de-la-enfermedad-renal-cronica-y-proteinuria-en-el-perro-y-el-gato/
CATEGORIES:Pequeños animales
ATTACH;FMTTYPE=image/jpeg:https://www.covb.cat/wp-content/uploads/2026/04/Imatge-fromacio-renal.jpg
END:VEVENT
END:VCALENDAR