BEGIN:VCALENDAR
VERSION:2.0
PRODID:-//COVB - ECPv5.16.4.1//NONSGML v1.0//EN
CALSCALE:GREGORIAN
METHOD:PUBLISH
X-WR-CALNAME:COVB
X-ORIGINAL-URL:https://www.covb.cat/es/
X-WR-CALDESC:Eventos para COVB
BEGIN:VTIMEZONE
TZID:Europe/Madrid
BEGIN:DAYLIGHT
TZOFFSETFROM:+0100
TZOFFSETTO:+0200
TZNAME:CEST
DTSTART:20260329T010000
END:DAYLIGHT
BEGIN:STANDARD
TZOFFSETFROM:+0200
TZOFFSETTO:+0100
TZNAME:CET
DTSTART:20261025T010000
END:STANDARD
END:VTIMEZONE
BEGIN:VEVENT
DTSTART;VALUE=DATE:20261022
DTEND;VALUE=DATE:20261025
DTSTAMP:20260420T102527
CREATED:20260413T124753Z
LAST-MODIFIED:20260413T124838Z
UID:68833-1792627200-1792886399@www.covb.cat
SUMMARY:Congreso Historia de la Veterinaria: de la Tarraco romana de Augusto a la Reus modernista de Gaudí
DESCRIPTION:Tarragona será la sede del XXXI Congreso Nacional y XXI Congreso Iberoamericano de Historia de la Veterinaria\, que se celebrará del 22 al 24 de octubre de 2026 con una propuesta que conecta dos escenarios simbólicos del territorio: la Tarraco romana y la Reus modernista. El congreso invita a revisitar la historia de la veterinaria desde una perspectiva amplia\, abierta e interdisciplinar. \nSegún presenta la organización\, el hilo conductor principal de esta edición será la actividad veterinaria en el mundo clásico\, con especial atención a los animales en la Hispania romana y a las personas encargadas de su salud y explotación. Al mismo tiempo\, el congreso también quiere abrir espacio a otras líneas de investigación vinculadas a la profesión\, como la historia reciente\, las biografías\, los centros de formación veterinaria\, los laboratorios\, la tecnología\, el género\, la literatura\, el arte o los descubrimientos científicos. \nEl encuentro también incluirá una mirada hacia la avicultura del siglo XX\, con una conexión especial con Reus\, presentada como referente histórico de la explotación avícola en España. En este sentido\, el congreso se plantea como un espacio de diálogo entre profesionales de la veterinaria y especialistas de otros ámbitos\, como la historia\, la arqueología\, la etnografía\, el derecho o la historia natural. \nLa organización anima especialmente a presentar trabajos en formato póster\, con el objetivo de favorecer el intercambio\, la discusión y la conversación entre los participantes. Además\, en la web del congreso encontraréis la información práctica esencial. \n📅 Fechas: 22 – 24 de octubre de 2026\n📍 Lugar: Tarragona y Reus\n📝 Plazo de resúmenes: 10 de julio de 2026\n📄 Plazo de comunicaciones: 1 de agosto de 2026\n🔗 Más información e inscripciones: web oficial del congreso \nDesde el COVB\, os animamos a consultar el programa completo y la información práctica del congreso para valorar vuestra participación en un encuentro que pone en valor la trayectoria histórica de la profesión veterinaria y su diálogo con otras disciplinas.
URL:https://www.covb.cat/es/formacio/congreso-historia-de-la-veterinaria-de-la-tarraco-romana-de-augusto-a-la-reus-modernista-de-gaudi/
CATEGORIES:General
ATTACH;FMTTYPE=image/jpeg:https://www.covb.cat/wp-content/uploads/2026/04/Congres-historia-veterinaria-WEB.jpg
END:VEVENT
END:VCALENDAR