BEGIN:VCALENDAR
VERSION:2.0
PRODID:-//COVB - ECPv5.16.4.1//NONSGML v1.0//EN
CALSCALE:GREGORIAN
METHOD:PUBLISH
X-WR-CALNAME:COVB
X-ORIGINAL-URL:https://www.covb.cat/es/
X-WR-CALDESC:Eventos para COVB
BEGIN:VTIMEZONE
TZID:Europe/Madrid
BEGIN:DAYLIGHT
TZOFFSETFROM:+0100
TZOFFSETTO:+0200
TZNAME:CEST
DTSTART:20250330T010000
END:DAYLIGHT
BEGIN:STANDARD
TZOFFSETFROM:+0200
TZOFFSETTO:+0100
TZNAME:CET
DTSTART:20251026T010000
END:STANDARD
END:VTIMEZONE
BEGIN:VEVENT
DTSTART;VALUE=DATE:20250911
DTEND;VALUE=DATE:20250914
DTSTAMP:20260423T172721
CREATED:20250804T055704Z
LAST-MODIFIED:20250804T090833Z
UID:59460-1757548800-1757807999@www.covb.cat
SUMMARY:35.º Congreso Europeo de Dermatología Veterinaria: Bilbao 2025
DESCRIPTION:Del 11 al 13 de septiembre de 2025\, la ciudad de Bilbao será la sede del 35.º Congreso de la Sociedad Europea de Dermatología Veterinaria (ESVD)\, un evento de referencia que reunirá a veterinarios de toda Europa para compartir conocimiento\, experiencia y las últimas novedades en el ámbito de la dermatología veterinaria. \nEl congreso contará con tres grandes bloques temáticos simultáneos: \n\nPrograma práctico\nDermatología avanzada\nInvestigación e innovación\n\nCada línea incluirá ponencias impartidas por expertos de renombre internacional\, que compartirán su experiencia y conocimientos con los asistentes. Esta diversidad temática convierte el congreso en una cita atractiva tanto para profesionales jóvenes como para especialistas consolidados. \nAdemás\, el congreso ofrecerá un programa social paralelo para que los participantes puedan disfrutar de la cultura\, la arquitectura y la gastronomía de la ciudad de Bilbao. \nToda la información e inscripciones aquí. \nDescargar PDF
URL:https://www.covb.cat/es/formacio/35-o-congreso-europeo-de-dermatologia-veterinaria-bilbao-2025/
CATEGORIES:Pequeños animales
ATTACH;FMTTYPE=image/jpeg:https://www.covb.cat/wp-content/uploads/2025/08/Congres-dermatologia-WEB.jpg
END:VEVENT
END:VCALENDAR